BEGIN:VCALENDAR
VERSION:2.0
PRODID:-//Squarespace Inc/Squarespace 6//v6//EN
BEGIN:VEVENT
UID:594ae5c1b8a79b98fa6eaab3@squarespace.com
DTSTAMP:20170622T231539Z
DTSTART:20171210T220000Z
DTEND:20171211T020000Z
SUMMARY:Dangerous Blogger Workshop for Business Owners - BRISBANE
GEO:-27.454322;153.048667
LOCATION:Suite 3A\, 54 Vernon Terrace\, Teneriffe\, QLD\, 4005\, Australia
END:VEVENT
END:VCALENDAR
