BEGIN:VCALENDAR
VERSION:2.0
PRODID:-//Squarespace Inc/Squarespace 6//v6//EN
BEGIN:VEVENT
UID:594ae5968419c2ae392e9fc9@squarespace.com
DTSTAMP:20170622T230048Z
DTSTART:20171015T220000Z
DTEND:20171016T020000Z
SUMMARY:Dangerous Blogger Workshop for Business Owners - BRISBANE
GEO:-27.454322;153.048667
LOCATION:Suite 3A\, 54 Vernon Terrace\, Teneriffe\, QLD\, 4005\, Australia
END:VEVENT
END:VCALENDAR
