BEGIN:VCALENDAR
VERSION:2.0
PRODID:-//Squarespace Inc/Squarespace 6//v6//EN
BEGIN:VEVENT
UID:594ae5236a4963dfcc6c861e@squarespace.com
DTSTAMP:20170622T225733Z
DTSTART:20170813T230000Z
DTEND:20170814T030000Z
SUMMARY:Dangerous Blogger Workshop for Business Owners - BRISBANE
GEO:-27.454322;153.048667
LOCATION:Suite 3A\, 54 Vernon Terrace\, Teneriffe\, QLD\, 4005\, Australia
END:VEVENT
END:VCALENDAR
