BEGIN:VCALENDAR
VERSION:2.0
PRODID:-//Squarespace Inc/Squarespace 6//v6//EN
BEGIN:VEVENT
UID:594ae4dc86e6c073d6061289@squarespace.com
DTSTAMP:20170622T225806Z
DTSTART:20171010T220000Z
DTEND:20171011T020000Z
SUMMARY:Dangerous Blogger Workshop for Business Owners - MELBOURNE
GEO:-37.810057;144.964315
LOCATION:The Board Room\, 176 Little Lonsdale Street\, Melbourne\, VIC\, 30
 00\, Australia
END:VEVENT
END:VCALENDAR
