BEGIN:VCALENDAR
VERSION:2.0
PRODID:-//Squarespace Inc/Squarespace 6//v6//EN
BEGIN:VEVENT
UID:594ae452b3db2ba8b50f2f50@squarespace.com
DTSTAMP:20170622T225717Z
DTSTART:20170808T230000Z
DTEND:20170809T030000Z
SUMMARY:Dangerous Blogger Workshop for Business Owners - MELBOURNE
GEO:-37.810057;144.964315
LOCATION:The Board Room\, 176 Little Lonsdale Street\, Melbourne\, VIC\, 30
 00\, Australia
END:VEVENT
END:VCALENDAR
