BEGIN:VCALENDAR
VERSION:2.0
PRODID:-//Squarespace Inc/Squarespace 6//v6//EN
BEGIN:VEVENT
UID:594ae2c39f7456da86d8dbee@squarespace.com
DTSTAMP:20170622T225700Z
DTSTART:20170806T230000Z
DTEND:20170807T030000Z
SUMMARY:Dangerous Blogger Workshop for Business Owners - SYDNEY
GEO:-33.87017;151.205878
LOCATION:99 On York\, Level 2 99 York St\, Sydney 2000\, Australia
END:VEVENT
END:VCALENDAR
