BEGIN:VCALENDAR
VERSION:2.0
PRODID:-//Squarespace Inc/Squarespace 6//v6//EN
BEGIN:VEVENT
UID:594ae38886e6c073d605fb1b@squarespace.com
DTSTAMP:20170622T230147Z
DTSTART:20171203T220000Z
DTEND:20171204T020000Z
SUMMARY:Dangerous Blogger Workshop for Business Owners - SYDNEY
GEO:-33.87017;151.205878
LOCATION:99 On York\, Level 2 99 York St\, Sydney 2000\, Australia
END:VEVENT
END:VCALENDAR
