BEGIN:VCALENDAR
VERSION:2.0
PRODID:-//Squarespace Inc/Squarespace 6//v6//EN
BEGIN:VEVENT
UID:594ae343f5e23193f4a9ec59@squarespace.com
DTSTAMP:20170622T225745Z
DTSTART:20171008T220000Z
DTEND:20171009T020000Z
SUMMARY:Dangerous Blogger Workshop for Business Owners - SYDNEY
GEO:-33.87017;151.205878
LOCATION:99 On York\, Level 2 99 York St\, Sydney 2000\, Australia
END:VEVENT
END:VCALENDAR
