BEGIN:VCALENDAR
VERSION:2.0
PRODID:-//Squarespace Inc/Squarespace 6//v6//EN
BEGIN:VEVENT
UID:584885a0725e25023d3c12a0@squarespace.com
DTSTAMP:20170622T225515Z
DTSTART:20170702T230000Z
DTEND:20170703T030000Z
SUMMARY:Dangerous Blogger Workshop for Business Owners - SYDNEY
GEO:-33.87017;151.205878
LOCATION:99 On York\, Level 2 99 York St\, Sydney 2000\, Australia
END:VEVENT
END:VCALENDAR
