BEGIN:VCALENDAR
VERSION:2.0
PRODID:-//Squarespace Inc/Squarespace 6//v6//EN
BEGIN:VEVENT
UID:584883d5d482e9ae935fb501@squarespace.com
DTSTAMP:20161207T220029Z
DTSTART:20170215T140000Z
DTEND:20170215T220000Z
SUMMARY:Dangerous Blogging Workshop 
END:VEVENT
END:VCALENDAR
