BEGIN:VCALENDAR
VERSION:2.0
PRODID:-//Squarespace Inc/Squarespace 6//v6//EN
BEGIN:VEVENT
UID:584885dd414fb5fbd40de5df@squarespace.com
DTSTAMP:20161207T220040Z
DTSTART:20170224T140000Z
DTEND:20170225T220000Z
SUMMARY:Dangerous & Brilliant Writers’ Retreat
END:VEVENT
END:VCALENDAR
