BEGIN:VCALENDAR
VERSION:2.0
PRODID:-//Squarespace Inc/Squarespace 6//v6//EN
BEGIN:VEVENT
UID:584880bdd482e9ae935f7611@squarespace.com
DTSTAMP:20161207T220014Z
DTSTART:20170206T140000Z
DTEND:20170206T150000Z
SUMMARY:Dangerous Blogging Workshop
END:VEVENT
END:VCALENDAR
