BEGIN:VCALENDAR
VERSION:2.0
PRODID:-//Squarespace Inc/Squarespace 6//v6//EN
BEGIN:VEVENT
UID:5848843103596e5c5313f1d0@squarespace.com
DTSTAMP:20161207T220106Z
DTSTART:20170403T130000Z
DTEND:20170404T210000Z
SUMMARY:Dangerous Blogging Workshop 
END:VEVENT
END:VCALENDAR
