BEGIN:VCALENDAR
VERSION:2.0
PRODID:-//Squarespace Inc/Squarespace 6//v6//EN
BEGIN:VEVENT
UID:594a5a14414fb5a5e08a3ae7@squarespace.com
DTSTAMP:20170709T230129Z
DTSTART:20180124T070000Z
DTEND:20180127T070000Z
SUMMARY:Dangerous & Brilliant Writers’ Retreat
GEO:-33.636231;150.294162
LOCATION:Parklands Parklands Country Garden & Lodges Blue Mountains\, 132 G
 ovetts Leap Road\, Blackheath\, NSW\, 2785\, Australia
END:VEVENT
END:VCALENDAR
