BEGIN:VCALENDAR
VERSION:2.0
PRODID:-//Squarespace Inc/Squarespace 6//v6//EN
BEGIN:VEVENT
UID:594a59a3d1758ee25e9f7ca8@squarespace.com
DTSTAMP:20170709T230036Z
DTSTART:20171018T070000Z
DTEND:20171021T070000Z
SUMMARY:Dangerous & Brilliant Writers’ Retreat
GEO:-33.636231;150.294162
LOCATION:Parklands Parklands Country Garden & Lodges Blue Mountains\, 132 G
 ovetts Leap Road\, Blackheath\, NSW\, 2785\, Australia
END:VEVENT
END:VCALENDAR
